BEGIN:VCALENDAR
VERSION:2.0
PRODID:SchoolNow
CALSCALE:GREGORIAN
BEGIN:VEVENT
UID:cb89ede0-3824-11f1-8676-0a58a9feac02
DTSTAMP:20260420T070010Z
SUMMARY:Student of the Month
URL;VALUE=URI:https://www.uticaschools.org/schools/jefferson/calendar/89932
 58/student-of-the-month
DTSTART;VALUE=DATE:20260528
DTEND;VALUE=DATE:20260529
END:VEVENT
END:VCALENDAR
