BEGIN:VCALENDAR
VERSION:2.0
PRODID:SchoolNow
CALSCALE:GREGORIAN
BEGIN:VEVENT
UID:cb89ecfa-3824-11f1-b2d1-0a58a9feac02
DTSTAMP:20260420T070010Z
SUMMARY:No School - Unused Snow Day
URL;VALUE=URI:https://www.uticaschools.org/schools/jefferson/calendar/89932
 57/no-school-unused-snow-day
DTSTART;VALUE=DATE:20260526
DTEND;VALUE=DATE:20260527
END:VEVENT
END:VCALENDAR
