BEGIN:VCALENDAR
VERSION:2.0
PRODID:SchoolNow
CALSCALE:GREGORIAN
BEGIN:VEVENT
UID:cb89ec1e-3824-11f1-a4db-0a58a9feac02
DTSTAMP:20260420T070010Z
SUMMARY:Memorial Day - No School
URL;VALUE=URI:https://www.uticaschools.org/schools/jefferson/calendar/89932
 56/memorial-day-no-school
DTSTART;VALUE=DATE:20260525
DTEND;VALUE=DATE:20260526
END:VEVENT
END:VCALENDAR
