BEGIN:VCALENDAR
VERSION:2.0
PRODID:SchoolNow
CALSCALE:GREGORIAN
BEGIN:VEVENT
UID:cb89eb42-3824-11f1-ac57-0a58a9feac02
DTSTAMP:20260420T070010Z
SUMMARY:No School - Unused Snow Day
URL;VALUE=URI:https://www.uticaschools.org/schools/jefferson/calendar/89932
 55/no-school-unused-snow-day
DTSTART;VALUE=DATE:20260522
DTEND;VALUE=DATE:20260523
END:VEVENT
END:VCALENDAR
