BEGIN:VCALENDAR
VERSION:2.0
PRODID:SchoolNow
CALSCALE:GREGORIAN
BEGIN:VEVENT
UID:cb89ea5c-3824-11f1-b038-0a58a9feac02
DTSTAMP:20260420T070010Z
SUMMARY:Ice Cream Social
URL;VALUE=URI:https://www.uticaschools.org/schools/jefferson/calendar/89932
 54/ice-cream-social
DTSTART:20260521T213000Z
DTEND:20260521T223000Z
END:VEVENT
END:VCALENDAR
