BEGIN:VCALENDAR
VERSION:2.0
PRODID:SchoolNow
CALSCALE:GREGORIAN
BEGIN:VEVENT
UID:cb89e976-3824-11f1-85de-0a58a9feac02
DTSTAMP:20260420T070010Z
SUMMARY:Superintendent's Day - No School for Students
URL;VALUE=URI:https://www.uticaschools.org/schools/jefferson/calendar/89932
 53/superintendents-day-no-school-for-students
DTSTART;VALUE=DATE:20260519
DTEND;VALUE=DATE:20260520
END:VEVENT
END:VCALENDAR
