BEGIN:VCALENDAR
VERSION:2.0
PRODID:SchoolNow
CALSCALE:GREGORIAN
BEGIN:VEVENT
UID:cb89e890-3824-11f1-973e-0a58a9feac02
DTSTAMP:20260420T070010Z
SUMMARY:Mother's Day
URL;VALUE=URI:https://www.uticaschools.org/schools/jefferson/calendar/89932
 52/mothers-day
DTSTART;VALUE=DATE:20260510
DTEND;VALUE=DATE:20260511
END:VEVENT
END:VCALENDAR
