BEGIN:VCALENDAR
VERSION:2.0
PRODID:SchoolNow
CALSCALE:GREGORIAN
BEGIN:VEVENT
UID:cb89e796-3824-11f1-8e41-0a58a9feac02
DTSTAMP:20260420T070010Z
SUMMARY:Dress Like a Teacher
URL;VALUE=URI:https://www.uticaschools.org/schools/jefferson/calendar/89932
 51/dress-like-a-teacher
DTSTART;VALUE=DATE:20260508
DTEND;VALUE=DATE:20260509
END:VEVENT
END:VCALENDAR
