BEGIN:VCALENDAR
VERSION:2.0
PRODID:SchoolNow
CALSCALE:GREGORIAN
BEGIN:VEVENT
UID:cb89e688-3824-11f1-8192-0a58a9feac02
DTSTAMP:20260420T070010Z
SUMMARY:School Nurse Day
URL;VALUE=URI:https://www.uticaschools.org/schools/jefferson/calendar/89932
 50/school-nurse-day
DTSTART;VALUE=DATE:20260506
DTEND;VALUE=DATE:20260507
END:VEVENT
END:VCALENDAR
