BEGIN:VCALENDAR
VERSION:2.0
PRODID:SchoolNow
CALSCALE:GREGORIAN
BEGIN:VEVENT
UID:2479d678-1f1a-11f1-b0bb-0a58a9feac02
DTSTAMP:20260330T195547Z
SUMMARY:Global History REGENTS EXAM
URL;VALUE=URI:https://www.uticaschools.org/departments/guidance-counseling-
 services/calendar/8915523/global-history-regents-exam
DTSTART:20260617T160000Z
DTEND:20260617T180000Z
END:VEVENT
END:VCALENDAR
