BEGIN:VCALENDAR
VERSION:2.0
PRODID:SchoolNow
CALSCALE:GREGORIAN
BEGIN:VEVENT
UID:2479d100-1f1a-11f1-b869-0a58a9feac02
DTSTAMP:20260330T195547Z
SUMMARY:NO SCHOOL
URL;VALUE=URI:https://www.uticaschools.org/departments/guidance-counseling-
 services/calendar/8915517/no-school
DTSTART;VALUE=DATE:20260525
DTEND;VALUE=DATE:20260526
END:VEVENT
END:VCALENDAR
